2.43840000
0.00000000
0.00000000
-2.43840000
527005.64787592
5358652.74957589
