2.43840000
0.00000000
0.00000000
-2.43840000
536261.33151597
5358720.81550141
