2.43840000
0.00000000
0.00000000
-2.43840000
545516.98084683
5358806.20193600
