2.43840000
0.00000000
0.00000000
-2.43840000
499234.49371032
5344641.81598884
