2.43840000
0.00000000
0.00000000
-2.43840000
517793.36892508
5344704.71936934
