2.43840000
0.00000000
0.00000000
-2.43840000
508543.20186027
5330772.02774589
