2.43840000
0.00000000
0.00000000
-2.43840000
599799.66148482
5429099.42695319
