2.43840000
0.00000000
0.00000000
-2.43840000
608941.11887059
5429288.89011583
