2.43840000
0.00000000
0.00000000
-2.43840000
581720.41352347
5414870.62552401
