2.43840000
0.00000000
0.00000000
-2.43840000
591344.37410655
5387240.86329022
