2.438400
0
0
-2.438400
618834.200590
5387805.041642
