2.43840000
0.00000000
0.00000000
-2.43840000
573104.15155934
5373044.69874080
