2.43840000
0.00000000
0.00000000
-2.43840000
600802.50341909
5373523.77408689
