2.43840000
0.00000000
0.00000000
-2.43840000
637732.82785830
5374372.79189841
