2.43840000
0.00000000
0.00000000
-2.43840000
591794.78153141
5359454.06588866
