2.43840000
0.00000000
0.00000000
-2.43840000
610305.58097161
5359818.92616760
