2.43840000
0.00000000
0.00000000
-2.43840000
601297.41065052
5345735.51064380
