2.43840000
0.00000000
0.00000000
-2.43840000
664197.85346787
5416849.29960658
