2.43840000
0.00000000
0.00000000
-2.43840000
682525.13516225
5417455.74160738
