2.43840000
0.00000000
0.00000000
-2.43840000
646233.41805488
5402409.25507075
