2.43840000
0.00000000
0.00000000
-2.43840000
646965.24746726
5374621.96670818
