2.43840000
0.00000000
0.00000000
-2.43840000
693125.78962165
5376101.13260281
