2.43840000
0.00000000
0.00000000
-2.43840000
702357.58941027
5376442.08429534
