2.43840000
0.00000000
0.00000000
-2.43840000
656581.41550645
5360995.46438652
