2.43840000
0.00000000
0.00000000
-2.43840000
712109.55979464
5362903.92938165
