2.43840000
0.00000000
0.00000000
-2.43840000
666242.14795718
5347383.50611127
