2.43840000
0.00000000
0.00000000
-2.43840000
684797.05862202
5347990.45921051
