2.43840000
0.00000000
0.00000000
-2.43840000
694081.82693631
5348315.25145170
