2.43840000
0.00000000
0.00000000
-2.43840000
712636.12882184
5349012.96947292
