2.43840000
0.00000000
0.00000000
-2.43840000
675954.72540042
5333786.96994813
