2.43840000
0.00000000
0.00000000
-2.43840000
343374.70254969
5430198.50634174
