2.43840000
0.00000000
0.00000000
-2.43840000
287842.63244385
5418119.20296657
