2.43840000
0.00000000
0.00000000
-2.43840000
342984.92028257
5416304.30432537
