2.43840000
0.00000000
0.00000000
-2.43840000
287316.80354778
5404226.32270525
