2.43840000
0.00000000
0.00000000
-2.43840000
324168.89235363
5402959.01317032
