2.43840000
0.00000000
0.00000000
-2.43840000
332978.89424676
5388779.51182355
