2.43840000
0.00000000
0.00000000
-2.43840000
295041.39791393
5362207.38464268
