2.43840000
0.00000000
0.00000000
-2.43840000
304314.99757801
5361883.86846361
