2.43840000
0.00000000
0.00000000
-2.43840000
322877.67562183
5361277.22163799
