2.43840000
0.00000000
0.00000000
-2.43840000
294534.72485819
5348317.74115845
