2.43840000
0.00000000
0.00000000
-2.43840000
322446.49627634
5347383.50611127
