2.43840000
0.00000000
0.00000000
-2.43840000
284717.91120317
5334764.81238078
