2.43840000
0.00000000
0.00000000
-2.43840000
322023.62895857
5333490.92575126
