2.43840000
0.00000000
0.00000000
-2.43840000
331350.33243292
5333208.90297359
