2.43840000
0.00000000
0.00000000
-2.43840000
340676.99220932
5332945.34492810
