2.43840000
0.00000000
0.00000000
-2.43840000
352175.71709225
5416054.42712729
