2.43840000
0.00000000
0.00000000
-2.43840000
361374.14650885
5415814.99964248
