2.43840000
0.00000000
0.00000000
-2.43840000
379755.98564307
5415392.87391824
