2.43840000
0.00000000
0.00000000
-2.43840000
388939.56682199
5415206.78966209
