2.43840000
0.00000000
0.00000000
-2.43840000
370236.86852913
5401705.55737022
